BEGIN:VCALENDAR
VERSION:2.0
PRODID:-//Gendringse Orkest Vereniging - ECPv6.15.20//NONSGML v1.0//EN
CALSCALE:GREGORIAN
METHOD:PUBLISH
X-WR-CALNAME:Gendringse Orkest Vereniging
X-ORIGINAL-URL:https://www.govgendringen.nl
X-WR-CALDESC:Evenementen voor Gendringse Orkest Vereniging
REFRESH-INTERVAL;VALUE=DURATION:PT1H
X-Robots-Tag:noindex
X-PUBLISHED-TTL:PT1H
BEGIN:VTIMEZONE
TZID:Europe/Amsterdam
BEGIN:DAYLIGHT
TZOFFSETFROM:+0100
TZOFFSETTO:+0200
TZNAME:CEST
DTSTART:20250330T010000
END:DAYLIGHT
BEGIN:STANDARD
TZOFFSETFROM:+0200
TZOFFSETTO:+0100
TZNAME:CET
DTSTART:20251026T010000
END:STANDARD
BEGIN:DAYLIGHT
TZOFFSETFROM:+0100
TZOFFSETTO:+0200
TZNAME:CEST
DTSTART:20260329T010000
END:DAYLIGHT
BEGIN:STANDARD
TZOFFSETFROM:+0200
TZOFFSETTO:+0100
TZNAME:CET
DTSTART:20261025T010000
END:STANDARD
BEGIN:DAYLIGHT
TZOFFSETFROM:+0100
TZOFFSETTO:+0200
TZNAME:CEST
DTSTART:20270328T010000
END:DAYLIGHT
BEGIN:STANDARD
TZOFFSETFROM:+0200
TZOFFSETTO:+0100
TZNAME:CET
DTSTART:20271031T010000
END:STANDARD
END:VTIMEZONE
BEGIN:VEVENT
DTSTART;TZID=Europe/Amsterdam:20260427T100000
DTEND;TZID=Europe/Amsterdam:20260427T110000
DTSTAMP:20260422T125057
CREATED:20260413T121144Z
LAST-MODIFIED:20260413T121144Z
UID:15528-1777284000-1777287600@www.govgendringen.nl
SUMMARY:Koningsdag in Gendringen
DESCRIPTION:G.O.V. speelt ook deze koningsdag in de optocht met de versierde fietsen!
URL:https://www.govgendringen.nl/activiteit/koningsdag-in-gendringen/
END:VEVENT
END:VCALENDAR