BEGIN:VCALENDAR
VERSION:2.0
PRODID:-//Gendringse Orkest Vereniging - ECPv6.15.20//NONSGML v1.0//EN
CALSCALE:GREGORIAN
METHOD:PUBLISH
X-ORIGINAL-URL:https://www.govgendringen.nl
X-WR-CALDESC:Evenementen voor Gendringse Orkest Vereniging
REFRESH-INTERVAL;VALUE=DURATION:PT1H
X-Robots-Tag:noindex
X-PUBLISHED-TTL:PT1H
BEGIN:VTIMEZONE
TZID:Europe/Amsterdam
BEGIN:DAYLIGHT
TZOFFSETFROM:+0100
TZOFFSETTO:+0200
TZNAME:CEST
DTSTART:20240331T010000
END:DAYLIGHT
BEGIN:STANDARD
TZOFFSETFROM:+0200
TZOFFSETTO:+0100
TZNAME:CET
DTSTART:20241027T010000
END:STANDARD
BEGIN:DAYLIGHT
TZOFFSETFROM:+0100
TZOFFSETTO:+0200
TZNAME:CEST
DTSTART:20250330T010000
END:DAYLIGHT
BEGIN:STANDARD
TZOFFSETFROM:+0200
TZOFFSETTO:+0100
TZNAME:CET
DTSTART:20251026T010000
END:STANDARD
BEGIN:DAYLIGHT
TZOFFSETFROM:+0100
TZOFFSETTO:+0200
TZNAME:CEST
DTSTART:20260329T010000
END:DAYLIGHT
BEGIN:STANDARD
TZOFFSETFROM:+0200
TZOFFSETTO:+0100
TZNAME:CET
DTSTART:20261025T010000
END:STANDARD
END:VTIMEZONE
BEGIN:VEVENT
DTSTART;TZID=Europe/Amsterdam:20250525T080000
DTEND;TZID=Europe/Amsterdam:20250601T233000
DTSTAMP:20260421T052952
CREATED:20250525T102633Z
LAST-MODIFIED:20250525T104351Z
UID:15268-1748160000-1748820600@www.govgendringen.nl
SUMMARY:Donateursactie 2025
DESCRIPTION:Van zondag 25 mei tot en met zondag 1 juni staat onze jaarlijkse donateursactie gepland. Vind meer over de donateursactie in ons nieuwsbericht.
URL:https://www.govgendringen.nl/activiteit/donateursactie-2025/
CATEGORIES:Evenementen
END:VEVENT
END:VCALENDAR